BEGIN:VCALENDAR
VERSION:2.0
PRODID:-//ASA - Agricultural Shows Australia - ECPv5.3.2.1//NONSGML v1.0//EN
CALSCALE:GREGORIAN
METHOD:PUBLISH
X-WR-CALNAME:ASA - Agricultural Shows Australia
X-ORIGINAL-URL:https://agshowsaustralia.org.au
X-WR-CALDESC:Events for ASA - Agricultural Shows Australia
BEGIN:VTIMEZONE
TZID:Australia/Melbourne
BEGIN:STANDARD
TZOFFSETFROM:+1100
TZOFFSETTO:+1000
TZNAME:AEST
DTSTART:20210403T160000
END:STANDARD
BEGIN:DAYLIGHT
TZOFFSETFROM:+1000
TZOFFSETTO:+1100
TZNAME:AEDT
DTSTART:20211002T160000
END:DAYLIGHT
END:VTIMEZONE
BEGIN:VEVENT
DTSTART;VALUE=DATE:20210226
DTEND;VALUE=DATE:20210228
DTSTAMP:20210223T123947
CREATED:20200803T020157Z
LAST-MODIFIED:20200803T020157Z
UID:10283-1614297600-1614470399@agshowsaustralia.org.au
SUMMARY:Kaitaia & Districts A&P Association
DESCRIPTION:
URL:https://agshowsaustralia.org.au/event/kaitaia-districts-ap-association/
CATEGORIES:New Zealand
END:VEVENT
BEGIN:VEVENT
DTSTART;VALUE=DATE:20210226
DTEND;VALUE=DATE:20210228
DTSTAMP:20210223T123947
CREATED:20200803T020508Z
LAST-MODIFIED:20200803T020508Z
UID:10585-1614297600-1614470399@agshowsaustralia.org.au
SUMMARY:Rochester A & P Association Inc.
DESCRIPTION:
URL:https://agshowsaustralia.org.au/event/rochester-a-p-association-inc/
CATEGORIES:Victoria
END:VEVENT
BEGIN:VEVENT
DTSTART;VALUE=DATE:20210227
DTEND;VALUE=DATE:20210228
DTSTAMP:20210223T123947
CREATED:20200803T020006Z
LAST-MODIFIED:20200803T020006Z
UID:10099-1614384000-1614470399@agshowsaustralia.org.au
SUMMARY:Binnaway Show
DESCRIPTION:
URL:https://agshowsaustralia.org.au/event/binnaway-show/
CATEGORIES:ASC NSW
END:VEVENT
BEGIN:VEVENT
DTSTART;VALUE=DATE:20210227
DTEND;VALUE=DATE:20210228
DTSTAMP:20210223T123947
CREATED:20200803T020154Z
LAST-MODIFIED:20200803T020154Z
UID:10277-1614384000-1614470399@agshowsaustralia.org.au
SUMMARY:Helensville Agricultural & Pastoral Association
DESCRIPTION:
URL:https://agshowsaustralia.org.au/event/helensville-agricultural-pastoral-association/
CATEGORIES:New Zealand
END:VEVENT
BEGIN:VEVENT
DTSTART;VALUE=DATE:20210227
DTEND;VALUE=DATE:20210301
DTSTAMP:20210223T123947
CREATED:20200803T020219Z
LAST-MODIFIED:20200803T020219Z
UID:10318-1614384000-1614556799@agshowsaustralia.org.au
SUMMARY:Bell Show Society
DESCRIPTION:
URL:https://agshowsaustralia.org.au/event/bell-show-society/
CATEGORIES:Queensland Shows
END:VEVENT
BEGIN:VEVENT
DTSTART;VALUE=DATE:20210227
DTEND;VALUE=DATE:20210301
DTSTAMP:20210223T123947
CREATED:20200803T020302Z
LAST-MODIFIED:20200803T020302Z
UID:10380-1614384000-1614556799@agshowsaustralia.org.au
SUMMARY:Millmerran Show Society
DESCRIPTION:
URL:https://agshowsaustralia.org.au/event/millmerran-show-society/
CATEGORIES:Queensland Shows
END:VEVENT
BEGIN:VEVENT
DTSTART;VALUE=DATE:20210227
DTEND;VALUE=DATE:20210228
DTSTAMP:20210223T123947
CREATED:20200803T020339Z
LAST-MODIFIED:20200803T020339Z
UID:10442-1614384000-1614470399@agshowsaustralia.org.au
SUMMARY:Angaston Show
DESCRIPTION:
URL:https://agshowsaustralia.org.au/event/angaston-show/
CATEGORIES:South Australia
END:VEVENT
BEGIN:VEVENT
DTSTART;VALUE=DATE:20210227
DTEND;VALUE=DATE:20210301
DTSTAMP:20210223T123947
CREATED:20200803T020351Z
LAST-MODIFIED:20200803T020351Z
UID:10460-1614384000-1614556799@agshowsaustralia.org.au
SUMMARY:Lucindale Show
DESCRIPTION:
URL:https://agshowsaustralia.org.au/event/lucindale-show/
CATEGORIES:South Australia
END:VEVENT
BEGIN:VEVENT
DTSTART;VALUE=DATE:20210227
DTEND;VALUE=DATE:20210228
DTSTAMP:20210223T123947
CREATED:20200803T020425Z
LAST-MODIFIED:20200803T020425Z
UID:10517-1614384000-1614470399@agshowsaustralia.org.au
SUMMARY:Balmoral P & A Society Inc.
DESCRIPTION:
URL:https://agshowsaustralia.org.au/event/balmoral-p-a-society-inc/
CATEGORIES:Victoria
END:VEVENT
BEGIN:VEVENT
DTSTART;VALUE=DATE:20210227
DTEND;VALUE=DATE:20210301
DTSTAMP:20210223T123947
CREATED:20200803T020428Z
LAST-MODIFIED:20200803T020428Z
UID:10523-1614384000-1614556799@agshowsaustralia.org.au
SUMMARY:Berwick & District A & H Society Inc.
DESCRIPTION:
URL:https://agshowsaustralia.org.au/event/berwick-district-a-h-society-inc/
CATEGORIES:Victoria
END:VEVENT
BEGIN:VEVENT
DTSTART;VALUE=DATE:20210227
DTEND;VALUE=DATE:20210228
DTSTAMP:20210223T123947
CREATED:20200803T020444Z
LAST-MODIFIED:20200803T020444Z
UID:10547-1614384000-1614470399@agshowsaustralia.org.au
SUMMARY:Foster & District A & P Society Inc.
DESCRIPTION:
URL:https://agshowsaustralia.org.au/event/foster-district-a-p-society-inc/
CATEGORIES:Victoria
END:VEVENT
BEGIN:VEVENT
DTSTART;VALUE=DATE:20210227
DTEND;VALUE=DATE:20210228
DTSTAMP:20210223T123947
CREATED:20200803T020447Z
LAST-MODIFIED:20200803T020447Z
UID:10552-1614384000-1614470399@agshowsaustralia.org.au
SUMMARY:Heytesbury Agricultural Society Inc.
DESCRIPTION:
URL:https://agshowsaustralia.org.au/event/heytesbury-agricultural-society-inc/
CATEGORIES:Victoria
END:VEVENT
BEGIN:VEVENT
DTSTART;VALUE=DATE:20210302
DTEND;VALUE=DATE:20210303
DTSTAMP:20210223T123947
CREATED:20200803T020416Z
LAST-MODIFIED:20200803T020416Z
UID:10502-1614643200-1614729599@agshowsaustralia.org.au
SUMMARY:King Island Pastoral Horticultural & Agricultural Society Inc.
DESCRIPTION:
URL:https://agshowsaustralia.org.au/event/king-island-pastoral-horticultural-agricultural-society-inc/
CATEGORIES:Tasmania
END:VEVENT
BEGIN:VEVENT
DTSTART;VALUE=DATE:20210305
DTEND;VALUE=DATE:20210307
DTSTAMP:20210223T123947
CREATED:20200803T015951Z
LAST-MODIFIED:20200908T051319Z
UID:10083-1614902400-1615075199@agshowsaustralia.org.au
SUMMARY:Armidale and New England Show
DESCRIPTION:Online show only for 2021.
URL:https://agshowsaustralia.org.au/event/armidale-and-new-england-show/
CATEGORIES:ASC NSW
END:VEVENT
BEGIN:VEVENT
DTSTART;VALUE=DATE:20210305
DTEND;VALUE=DATE:20210308
DTSTAMP:20210223T123947
CREATED:20200803T020000Z
LAST-MODIFIED:20200803T020000Z
UID:10089-1614902400-1615161599@agshowsaustralia.org.au
SUMMARY:Barraba Show
DESCRIPTION:
URL:https://agshowsaustralia.org.au/event/barraba-show/
CATEGORIES:ASC NSW
END:VEVENT
BEGIN:VEVENT
DTSTART;VALUE=DATE:20210305
DTEND;VALUE=DATE:20210308
DTSTAMP:20210223T123947
CREATED:20200803T020027Z
LAST-MODIFIED:20200803T020027Z
UID:10136-1614902400-1615161599@agshowsaustralia.org.au
SUMMARY:Deniliquin Show
DESCRIPTION:
URL:https://agshowsaustralia.org.au/event/deniliquin-show/
CATEGORIES:ASC NSW
END:VEVENT
BEGIN:VEVENT
DTSTART;VALUE=DATE:20210305
DTEND;VALUE=DATE:20210308
DTSTAMP:20210223T123947
CREATED:20200803T020100Z
LAST-MODIFIED:20200803T020100Z
UID:10193-1614902400-1615161599@agshowsaustralia.org.au
SUMMARY:Mudgee Show
DESCRIPTION:
URL:https://agshowsaustralia.org.au/event/mudgee-show/
CATEGORIES:ASC NSW
END:VEVENT
BEGIN:VEVENT
DTSTART;VALUE=DATE:20210305
DTEND;VALUE=DATE:20210308
DTSTAMP:20210223T123947
CREATED:20200803T020107Z
LAST-MODIFIED:20200803T020107Z
UID:10203-1614902400-1615161599@agshowsaustralia.org.au
SUMMARY:Newcastle Show
DESCRIPTION:
URL:https://agshowsaustralia.org.au/event/newcastle-show/
CATEGORIES:ASC NSW
END:VEVENT
BEGIN:VEVENT
DTSTART;VALUE=DATE:20210305
DTEND;VALUE=DATE:20210307
DTSTAMP:20210223T123947
CREATED:20200803T020118Z
LAST-MODIFIED:20200803T020118Z
UID:10219-1614902400-1615075199@agshowsaustralia.org.au
SUMMARY:Robertson Show
DESCRIPTION:
URL:https://agshowsaustralia.org.au/event/robertson-show/
CATEGORIES:ASC NSW
END:VEVENT
BEGIN:VEVENT
DTSTART;VALUE=DATE:20210305
DTEND;VALUE=DATE:20210307
DTSTAMP:20210223T123947
CREATED:20200803T020314Z
LAST-MODIFIED:20200803T020314Z
UID:10399-1614902400-1615075199@agshowsaustralia.org.au
SUMMARY:Pittsworth Show Society Inc.
DESCRIPTION:
URL:https://agshowsaustralia.org.au/event/pittsworth-show-society-inc/
CATEGORIES:Queensland Shows
END:VEVENT
BEGIN:VEVENT
DTSTART;VALUE=DATE:20210305
DTEND;VALUE=DATE:20210307
DTSTAMP:20210223T123947
CREATED:20210222T014550Z
LAST-MODIFIED:20210222T015055Z
UID:11537-1614902400-1615075199@agshowsaustralia.org.au
SUMMARY:Wagin Woolorama
DESCRIPTION:
URL:https://agshowsaustralia.org.au/event/wagin-woolarama/
CATEGORIES:Royal|Western Australia Shows
END:VEVENT
BEGIN:VEVENT
DTSTART;VALUE=DATE:20210306
DTEND;VALUE=DATE:20210307
DTSTAMP:20210223T123947
CREATED:20200803T020006Z
LAST-MODIFIED:20200803T020006Z
UID:10100-1614988800-1615075199@agshowsaustralia.org.au
SUMMARY:Blayney Show
DESCRIPTION:
URL:https://agshowsaustralia.org.au/event/blayney-show/
CATEGORIES:ASC NSW
END:VEVENT
BEGIN:VEVENT
DTSTART;VALUE=DATE:20210306
DTEND;VALUE=DATE:20210307
DTSTAMP:20210223T123947
CREATED:20200803T020009Z
LAST-MODIFIED:20200803T020009Z
UID:10106-1614988800-1615075199@agshowsaustralia.org.au
SUMMARY:Braidwood Show
DESCRIPTION:
URL:https://agshowsaustralia.org.au/event/braidwood-show/
CATEGORIES:ASC NSW
END:VEVENT
BEGIN:VEVENT
DTSTART;VALUE=DATE:20210306
DTEND;VALUE=DATE:20210308
DTSTAMP:20210223T123947
CREATED:20200803T020036Z
LAST-MODIFIED:20200803T020036Z
UID:10150-1614988800-1615161599@agshowsaustralia.org.au
SUMMARY:Goulburn Show
DESCRIPTION:
URL:https://agshowsaustralia.org.au/event/goulburn-show/
CATEGORIES:ASC NSW
END:VEVENT
BEGIN:VEVENT
DTSTART;VALUE=DATE:20210306
DTEND;VALUE=DATE:20210307
DTSTAMP:20210223T123947
CREATED:20200803T020130Z
LAST-MODIFIED:20200803T020130Z
UID:10239-1614988800-1615075199@agshowsaustralia.org.au
SUMMARY:Tumut Show
DESCRIPTION:
URL:https://agshowsaustralia.org.au/event/tumut-show/
CATEGORIES:ASC NSW
END:VEVENT
BEGIN:VEVENT
DTSTART;VALUE=DATE:20210306
DTEND;VALUE=DATE:20210307
DTSTAMP:20210223T123947
CREATED:20200803T020324Z
LAST-MODIFIED:20200803T020324Z
UID:10418-1614988800-1615075199@agshowsaustralia.org.au
SUMMARY:Tara PAShow Society
DESCRIPTION:
URL:https://agshowsaustralia.org.au/event/tara-pashow-society/
CATEGORIES:Queensland Shows
END:VEVENT
BEGIN:VEVENT
DTSTART;VALUE=DATE:20210306
DTEND;VALUE=DATE:20210308
DTSTAMP:20210223T123947
CREATED:20200803T020357Z
LAST-MODIFIED:20200803T020357Z
UID:10469-1614988800-1615161599@agshowsaustralia.org.au
SUMMARY:Mundulla AH&F Society Inc
DESCRIPTION:
URL:https://agshowsaustralia.org.au/event/mundulla-ahf-society-inc/
CATEGORIES:South Australia
END:VEVENT
BEGIN:VEVENT
DTSTART;VALUE=DATE:20210306
DTEND;VALUE=DATE:20211205
DTSTAMP:20210223T123947
CREATED:20200803T020514Z
LAST-MODIFIED:20200803T020514Z
UID:10595-1614988800-1638662399@agshowsaustralia.org.au
SUMMARY:Tallangatta A & P Society Inc.
DESCRIPTION:
URL:https://agshowsaustralia.org.au/event/tallangatta-a-p-society-inc/
CATEGORIES:Victoria
END:VEVENT
BEGIN:VEVENT
DTSTART;VALUE=DATE:20210306
DTEND;VALUE=DATE:20211031
DTSTAMP:20210223T123947
CREATED:20200803T020517Z
LAST-MODIFIED:20200803T020517Z
UID:10600-1614988800-1635638399@agshowsaustralia.org.au
SUMMARY:Warragul & West Gippsland Ag. Soc. Inc.
DESCRIPTION:
URL:https://agshowsaustralia.org.au/event/warragul-west-gippsland-ag-soc-inc/
CATEGORIES:Victoria
END:VEVENT
BEGIN:VEVENT
DTSTART;VALUE=DATE:20210307
DTEND;VALUE=DATE:20210308
DTSTAMP:20210223T123947
CREATED:20200803T020024Z
LAST-MODIFIED:20200803T020024Z
UID:10133-1615075200-1615161599@agshowsaustralia.org.au
SUMMARY:Dalgety Show
DESCRIPTION:
URL:https://agshowsaustralia.org.au/event/dalgety-show/
CATEGORIES:ASC NSW
END:VEVENT
END:VCALENDAR